BEGIN:VCALENDAR
VERSION:2.0
PRODID:-//wp-events-plugin.com//6.4.10.2//EN
TZID:Europe/Vienna
X-WR-TIMEZONE:Europe/Vienna
BEGIN:VEVENT
UID:8-1893@lfs-langenlois.ac.at
DTSTART;TZID=Europe/Vienna:20260319T090000
DTEND;TZID=Europe/Vienna:20260322T170000
DTSTAMP:20260203T090452Z
URL:https://lfs-langenlois.ac.at/events/bav-seminar-122-freihand-zeichnen-
 in-der-natur/
SUMMARY:BAV-Seminar 122: Freihand Zeichnen in der Natur
DESCRIPTION:Für mehr Details\, bitte hier klicken (Anmeldung und Kursbeitr
 ag): Freihand Zeichnen in der Natur\n\nProgramm: Freihand Zeichnen in der 
 Natur\n\nDen verminderten BAV Seminarbeitrag bezahlt man\, wenn man bei ei
 ner dieser Organisationen Mitgliedsbeitrag bezahlt.\n\nBitte um vollst
 ändige Anmeldung per E-Mail an bav@gartenbauschule.at:\n\nName:\nStraß
 e:\nPLZ\, Ort:\nTelefon:\nE-Mail:\nGeb. Datum:\nBAV-Mitglied:\nNichtmitgli
 ed:\nAnschrift für Einladung/Rechnung:
CATEGORIES:Kurs
LOCATION:LFS + BS Langenlois\, Am Rosenhügel 15\, Langenlois\, Niederöste
 rreich\, 3550\, Österreich
X-APPLE-STRUCTURED-LOCATION;VALUE=URI;X-ADDRESS=Am Rosenhügel 15\, Langenl
 ois\, Niederösterreich\, 3550\, Österreich;X-APPLE-RADIUS=100;X-TITLE=LF
 S + BS Langenlois:geo:0,0
END:VEVENT
BEGIN:VTIMEZONE
TZID:Europe/Vienna
X-LIC-LOCATION:Europe/Vienna
BEGIN:STANDARD
DTSTART:20251026T020000
TZOFFSETFROM:+0200
TZOFFSETTO:+0100
TZNAME:CET
END:STANDARD
END:VTIMEZONE
END:VCALENDAR