BEGIN:VCALENDAR
VERSION:2.0
PRODID:-//wp-events-plugin.com//6.4.10.2//EN
TZID:Europe/Vienna
X-WR-TIMEZONE:Europe/Vienna
BEGIN:VEVENT
UID:8-1709@lfs-langenlois.ac.at
DTSTART;TZID=Europe/Vienna:20250527T090000
DTEND;TZID=Europe/Vienna:20251007T130000
DTSTAMP:20250310T104557Z
URL:https://lfs-langenlois.ac.at/events/bav-seminar-221-bluehende-beete-im
 -oeffentlichen-raum-neu-gedacht-im-2-jahr-seminar-fuer-gemeinden/
SUMMARY:BAV-Seminar 221: Blühende Beete im öffentlichen Raum neu gedacht 
 im 2. Jahr - Seminar für Gemeinden
DESCRIPTION:Programm und Kursbeitrag: Blühende Beete im öffentlichen Raum
  neu gedacht\n\nDen verminderten BAV Seminarbeitrag bezahlt man\, wenn man
  bei einer dieser Organisationen Mitgliedsbeitrag bezahlt.\n\nBitte um 
 vollständige Anmeldung per E-Mail an bav@gartenbauschule.at :\n\nName:
 \nStraße:\nPLZ\, Ort:\nTelefon:\nE-Mail:\nGeb. Datum:\nBAV-Mitglied:\nNic
 htmitglied:\nAnschrift für Einladung/Rechnung:
CATEGORIES:Kurs
LOCATION:LFS + BS Langenlois\, Am Rosenhügel 15\, Langenlois\, Niederöste
 rreich\, 3550\, Österreich
X-APPLE-STRUCTURED-LOCATION;VALUE=URI;X-ADDRESS=Am Rosenhügel 15\, Langenl
 ois\, Niederösterreich\, 3550\, Österreich;X-APPLE-RADIUS=100;X-TITLE=LF
 S + BS Langenlois:geo:0,0
END:VEVENT
BEGIN:VTIMEZONE
TZID:Europe/Vienna
X-LIC-LOCATION:Europe/Vienna
BEGIN:DAYLIGHT
DTSTART:20250330T030000
TZOFFSETFROM:+0100
TZOFFSETTO:+0200
TZNAME:CEST
END:DAYLIGHT
END:VTIMEZONE
END:VCALENDAR