BEGIN:VCALENDAR
VERSION:2.0
PRODID:-//wp-events-plugin.com//6.4.10.2//EN
TZID:Europe/Vienna
X-WR-TIMEZONE:Europe/Vienna
BEGIN:VEVENT
UID:8-1470@lfs-langenlois.ac.at
DTSTART;TZID=Europe/Vienna:20240730T090000
DTEND;TZID=Europe/Vienna:20240731T160000
DTSTAMP:20240524T084554Z
URL:https://lfs-langenlois.ac.at/events/bav-seminar-310-sommerschnitt-an-o
 bstgehoelzen-eine-unterschaetzte-massnahme/
SUMMARY:BAV-Seminar 310: Sommerschnitt an Obstgehölzen - Eine unterschätz
 te Maßnahme
DESCRIPTION:Programm und Kursbeitrag: Sommerschnitt an Obstgehölzen - Ein
 e unterschätzte Maßnahme\n\nDen verminderten BAV Seminarbeitrag bezahlt 
 man\, wenn man bei einer dieser Organisationen Mitgliedsbeitrag bezahlt.
 \n\nBitte um vollständige Anmeldung per E-Mail an bav@gartenbauschule.
 at :\n\nName:\nStraße:\nPLZ\, Ort:\nTelefon:\nE-Mail:\nGeb. Datum:\nBAV-
 Mitglied:\nNichtmitglied:\nAnschrift für Einladung/Rechnung:
CATEGORIES:Kurs
LOCATION:LFS + BS Langenlois\, Am Rosenhügel 15\, Langenlois\, Niederöste
 rreich\, 3550\, Österreich
X-APPLE-STRUCTURED-LOCATION;VALUE=URI;X-ADDRESS=Am Rosenhügel 15\, Langenl
 ois\, Niederösterreich\, 3550\, Österreich;X-APPLE-RADIUS=100;X-TITLE=LF
 S + BS Langenlois:geo:0,0
END:VEVENT
BEGIN:VTIMEZONE
TZID:Europe/Vienna
X-LIC-LOCATION:Europe/Vienna
BEGIN:DAYLIGHT
DTSTART:20240331T030000
TZOFFSETFROM:+0100
TZOFFSETTO:+0200
TZNAME:CEST
END:DAYLIGHT
END:VTIMEZONE
END:VCALENDAR