BEGIN:VCALENDAR
VERSION:2.0
PRODID:-//wp-events-plugin.com//6.4.10.2//EN
TZID:Europe/Vienna
X-WR-TIMEZONE:Europe/Vienna
BEGIN:VEVENT
UID:8-1472@lfs-langenlois.ac.at
DTSTART;TZID=Europe/Vienna:20241125T000000
DTEND;TZID=Europe/Vienna:20260318T000000
DTSTAMP:20240604T083531Z
URL:https://lfs-langenlois.ac.at/events/bav-seminarreihe-gartengestalterin
 -im-2-bildungsweg-3/
SUMMARY:BAV-Seminarreihe: GartengestalterIn im 2. Bildungsweg
DESCRIPTION:Programm und Kursbeitrag: Seminarreihe: GartengestalterIn im 2.
  Bildungsweg (6. Serie)\n\nBitte um vollständige Anmeldung per E-Mail a
 n bav@gartenbauschule.at :\n\nName:\nStraße:\nPLZ\, Ort:\nTelefon:\nE-M
 ail:\nGeb. Datum:\nBAV-Mitglied:\nNichtmitglied:\nAnschrift für Einladung
 /Rechnung:
CATEGORIES:Kurs
LOCATION:LFS + BS Langenlois\, Am Rosenhügel 15\, Langenlois\, Niederöste
 rreich\, 3550\, Österreich
X-APPLE-STRUCTURED-LOCATION;VALUE=URI;X-ADDRESS=Am Rosenhügel 15\, Langenl
 ois\, Niederösterreich\, 3550\, Österreich;X-APPLE-RADIUS=100;X-TITLE=LF
 S + BS Langenlois:geo:0,0
END:VEVENT
BEGIN:VTIMEZONE
TZID:Europe/Vienna
X-LIC-LOCATION:Europe/Vienna
BEGIN:STANDARD
DTSTART:20241027T020000
TZOFFSETFROM:+0200
TZOFFSETTO:+0100
TZNAME:CET
END:STANDARD
BEGIN:DAYLIGHT
DTSTART:20250330T030000
TZOFFSETFROM:+0100
TZOFFSETTO:+0200
TZNAME:CEST
END:DAYLIGHT
BEGIN:STANDARD
DTSTART:20251026T020000
TZOFFSETFROM:+0200
TZOFFSETTO:+0100
TZNAME:CET
END:STANDARD
END:VTIMEZONE
END:VCALENDAR