BEGIN:VCALENDAR
VERSION:2.0
PRODID:-//wp-events-plugin.com//6.4.10.2//EN
TZID:Europe/Vienna
X-WR-TIMEZONE:Europe/Vienna
BEGIN:VEVENT
UID:8-1902@lfs-langenlois.ac.at
DTSTART;TZID=Europe/Vienna:20260603T090000
DTEND;TZID=Europe/Vienna:20260607T170000
DTSTAMP:20260420T124352Z
URL:https://lfs-langenlois.ac.at/events/steinwein-cairnscones/
SUMMARY:9. Europäischer Workshop - Trockensteinmauern: Cairns &amp\; Cones
  2026
DESCRIPTION:Für mehr Details\, bitte hier klicken (Anmeldung\, Programm un
 d Kursbeitrag): 9. Europäischer Workshop Trockensteinmauern: Cairns &amp\
 ; Cones\n\nBitte um vollständige Anmeldung per E-Mail an bav@gartenbau
 schule.at:\n\nName:\nStraße:\nPLZ\, Ort:\nTelefon:\nE-Mail:\nGeb. Datum:\
 nBAV-Mitglied:\nNichtmitglied:\nAnschrift für Einladung/Rechnung:
CATEGORIES:Kurs
LOCATION:LFS + BS Langenlois\, Am Rosenhügel 15\, Langenlois\, Niederöste
 rreich\, 3550\, Österreich
X-APPLE-STRUCTURED-LOCATION;VALUE=URI;X-ADDRESS=Am Rosenhügel 15\, Langenl
 ois\, Niederösterreich\, 3550\, Österreich;X-APPLE-RADIUS=100;X-TITLE=LF
 S + BS Langenlois:geo:0,0
END:VEVENT
BEGIN:VTIMEZONE
TZID:Europe/Vienna
X-LIC-LOCATION:Europe/Vienna
BEGIN:DAYLIGHT
DTSTART:20260329T030000
TZOFFSETFROM:+0100
TZOFFSETTO:+0200
TZNAME:CEST
END:DAYLIGHT
END:VTIMEZONE
END:VCALENDAR